
BEGIN:VCALENDAR
VERSION:2.0
PRODID:-//hacksw/handcal//NONSGML v1.0//EN
BEGIN:VEVENT
UID:spotlight-konzert
DTSTAMP;TZID=Europe/Vienna:20260419T151621Z
DTSTART;TZID=Europe/Vienna:20261108T170000Z
DTEND;TZID=Europe/Vienna:20261108T190000Z
STATUS:CONFIRMED
SUMMARY:Villa Falkenhorst - Spotlight Konzert
LOCATION:Villa Falkenhorst, Flugelin 3, 6712 Thueringen
URL:https://www.falkenhorst.at/veranstaltungen/spotlight-konzert/
END:VEVENT
END:VCALENDAR