
BEGIN:VCALENDAR
VERSION:2.0
PRODID:-//hacksw/handcal//NONSGML v1.0//EN
BEGIN:VEVENT
UID:moritz-weiss-klezmer-trio
DTSTAMP;TZID=Europe/Vienna:20260424T173131Z
DTSTART;TZID=Europe/Vienna:20240929T190000Z
DTEND;TZID=Europe/Vienna:20240929T210000Z
STATUS:CONFIRMED
SUMMARY:Villa Falkenhorst - Moritz Weiss Klezmer Trio
LOCATION:Villa Falkenhorst, Flugelin 3, 6712 Thueringen
URL:https://www.falkenhorst.at/veranstaltungen/moritz-weiss-klezmer-trio/
END:VEVENT
END:VCALENDAR