
BEGIN:VCALENDAR
VERSION:2.0
PRODID:-//hacksw/handcal//NONSGML v1.0//EN
BEGIN:VEVENT
UID:concertissimo-abschlussmatinee-der-feldkircher-str
DTSTAMP;TZID=Europe/Vienna:20260420T204933Z
DTSTART;TZID=Europe/Vienna:20220911T110000Z
DTEND;TZID=Europe/Vienna:20220911T130000Z
STATUS:CONFIRMED
SUMMARY:Villa Falkenhorst - Concertissimo - Abschlussmatinee der Feldkircher Streichertage
LOCATION:Villa Falkenhorst, Flugelin 3, 6712 Thueringen
URL:https://www.falkenhorst.at/veranstaltungen/concertissimo-abschlussmatinee-der-feldkircher-str/
END:VEVENT
END:VCALENDAR