
BEGIN:VCALENDAR
VERSION:2.0
PRODID:-//hacksw/handcal//NONSGML v1.0//EN
BEGIN:VEVENT
UID:52-internationale-bludescher-orgelkonzerte-konzert
DTSTAMP;TZID=Europe/Vienna:20260424T172334Z
DTSTART;TZID=Europe/Vienna:20220925T170000Z
DTEND;TZID=Europe/Vienna:20220925T190000Z
STATUS:CONFIRMED
SUMMARY:Villa Falkenhorst - 52. Internationale Bludescher Orgelkonzerte: Konzert III
LOCATION:Villa Falkenhorst, Flugelin 3, 6712 Thueringen
URL:https://www.falkenhorst.at/veranstaltungen/52-internationale-bludescher-orgelkonzerte-konzert/
END:VEVENT
END:VCALENDAR